BEGIN:VCALENDAR
VERSION:2.0
PRODID:-//Park Board - ECPv6.15.20//NONSGML v1.0//EN
CALSCALE:GREGORIAN
METHOD:PUBLISH
X-WR-CALNAME:Park Board
X-ORIGINAL-URL:https://parkboardgolf.org
X-WR-CALDESC:Events for Park Board
REFRESH-INTERVAL;VALUE=DURATION:PT1H
X-Robots-Tag:noindex
X-PUBLISHED-TTL:PT1H
BEGIN:VTIMEZONE
TZID:America/Chicago
BEGIN:DAYLIGHT
TZOFFSETFROM:-0600
TZOFFSETTO:-0500
TZNAME:CDT
DTSTART:20250309T080000
END:DAYLIGHT
BEGIN:STANDARD
TZOFFSETFROM:-0500
TZOFFSETTO:-0600
TZNAME:CST
DTSTART:20251102T070000
END:STANDARD
BEGIN:DAYLIGHT
TZOFFSETFROM:-0600
TZOFFSETTO:-0500
TZNAME:CDT
DTSTART:20260308T080000
END:DAYLIGHT
BEGIN:STANDARD
TZOFFSETFROM:-0500
TZOFFSETTO:-0600
TZNAME:CST
DTSTART:20261101T070000
END:STANDARD
BEGIN:DAYLIGHT
TZOFFSETFROM:-0600
TZOFFSETTO:-0500
TZNAME:CDT
DTSTART:20270314T080000
END:DAYLIGHT
BEGIN:STANDARD
TZOFFSETFROM:-0500
TZOFFSETTO:-0600
TZNAME:CST
DTSTART:20271107T070000
END:STANDARD
END:VTIMEZONE
BEGIN:VEVENT
DTSTART;TZID=America/Chicago:20260711T070000
DTEND;TZID=America/Chicago:20260712T170000
DTSTAMP:20260422T062435
CREATED:20260409T185721Z
LAST-MODIFIED:20260410T151612Z
UID:56750-1783753200-1783875600@parkboardgolf.org
SUMMARY:Governors Cup at Stewart GC and Rivercut GC
DESCRIPTION:Rivercut & Bill & Payne Stewart’s  \n54th Annual Governors Cup \n2-Person Scramble \nSaturday\, July 11th – Sunday\, July 12th \n18-Holes Saturday at Stewart GC | 18-Holes Sunday at Rivercut GC \n$280 per team  \nPay by July 7th. Price Increases to $300 afterwards. \n(First 100 Paid Teams ONLY) \nEntry fee includes: Greens Fee and Cart\, Range Balls\,  \nand Lunch at the turn both days. \n$1\,000 prize for Tournament Champions  \n(5 teams per flight) \nPrize fund will be Merchandise Credit \n\n\n\n\nRIV & BPS Governors Cup - 7/11/2026\n\n\n\n\n\n\n\n\n    Player 1\n        *\n    \n    \n    \n    \n\n\n	Player 1 Email\n		*\n	\n	\n	\n	\n\n\n	Player 1 Phone\n		*\n	\n	\n	\n	\n\n\n    Player 2\n        *\n    \n    \n    \n    \n\n\n    Player 2 Email\n        *\n    \n    \n    \n    \n\n\n    Player 2 Phone\n        *\n    \n    \n    \n    \n\n\n	\n\nSubmit Team\n\n\n\n	\n			\n			\n				If you are human\, leave this field blank.
URL:https://parkboardgolf.org/events/governors-cup-at-stewart-gc-and-rivercut-gc/
CATEGORIES:Bill & Payne Stewart,Rivercut
ATTACH;FMTTYPE=image/png:https://parkboardgolf.org/wp-content/uploads/2026/04/The-Parks-BPS-Governors-Cup-2026-blog.png
END:VEVENT
END:VCALENDAR