BEGIN:VCALENDAR
VERSION:2.0
PRODID:-//Park Board - ECPv6.15.20//NONSGML v1.0//EN
CALSCALE:GREGORIAN
METHOD:PUBLISH
X-ORIGINAL-URL:https://parkboardgolf.org
X-WR-CALDESC:Events for Park Board
REFRESH-INTERVAL;VALUE=DURATION:PT1H
X-Robots-Tag:noindex
X-PUBLISHED-TTL:PT1H
BEGIN:VTIMEZONE
TZID:America/Chicago
BEGIN:DAYLIGHT
TZOFFSETFROM:-0600
TZOFFSETTO:-0500
TZNAME:CDT
DTSTART:20250309T080000
END:DAYLIGHT
BEGIN:STANDARD
TZOFFSETFROM:-0500
TZOFFSETTO:-0600
TZNAME:CST
DTSTART:20251102T070000
END:STANDARD
BEGIN:DAYLIGHT
TZOFFSETFROM:-0600
TZOFFSETTO:-0500
TZNAME:CDT
DTSTART:20260308T080000
END:DAYLIGHT
BEGIN:STANDARD
TZOFFSETFROM:-0500
TZOFFSETTO:-0600
TZNAME:CST
DTSTART:20261101T070000
END:STANDARD
BEGIN:DAYLIGHT
TZOFFSETFROM:-0600
TZOFFSETTO:-0500
TZNAME:CDT
DTSTART:20270314T080000
END:DAYLIGHT
BEGIN:STANDARD
TZOFFSETFROM:-0500
TZOFFSETTO:-0600
TZNAME:CST
DTSTART:20271107T070000
END:STANDARD
END:VTIMEZONE
BEGIN:VEVENT
DTSTART;TZID=America/Chicago:20260428T090000
DTEND;TZID=America/Chicago:20260428T103000
DTSTAMP:20260422T064221
CREATED:20260415T171747Z
LAST-MODIFIED:20260415T171845Z
UID:56759-1777366800-1777372200@parkboardgolf.org
SUMMARY:PGA Hope at Rivercut Golf Course Begins
DESCRIPTION:PGA HOPE  \nSpringfield Program Session 1 \nat Rivercut Golf Course \n6 Sessions • Tuesdays\, April 28 – May 29 \n9:00am – 10:30am  \nAll expenses associated with PGA HOPE are covered \nNo Golf Equipment Required \nPGA HOPE is the flagship military program of the PGA of America. PGA HOPE is designed to introduce golf to Veterans and Active Duty Military to support their social\, emotional\, and physical well being. \nJoin PGA HOPE alongside your fellow Veterans and Servicemembers. PGA HOPE has served thousands of Veterans and Servicemembers across the United States through one of our 300+ locations. \nThis introductory program is designed to welcome those of all ages\, branches and eras of service\, genders\, and abilities to the golf course and share in camaraderie and fun together as a group. During this session you will learn the basics from grip to 9 holes of golf from PGA and LPGA Professionals. \nREGISTER HERE
URL:https://parkboardgolf.org/events/pga-hope-at-rivercut-golf-course/
CATEGORIES:Rivercut
ATTACH;FMTTYPE=image/png:https://parkboardgolf.org/wp-content/uploads/2026/04/RIV-PGA-Hope-2026-blog.png
END:VEVENT
END:VCALENDAR