BEGIN:VCALENDAR
VERSION:2.0
PRODID:-//Park Board - ECPv6.15.20//NONSGML v1.0//EN
CALSCALE:GREGORIAN
METHOD:PUBLISH
X-ORIGINAL-URL:https://parkboardgolf.org
X-WR-CALDESC:Events for Park Board
REFRESH-INTERVAL;VALUE=DURATION:PT1H
X-Robots-Tag:noindex
X-PUBLISHED-TTL:PT1H
BEGIN:VTIMEZONE
TZID:America/Chicago
BEGIN:DAYLIGHT
TZOFFSETFROM:-0600
TZOFFSETTO:-0500
TZNAME:CDT
DTSTART:20240310T080000
END:DAYLIGHT
BEGIN:STANDARD
TZOFFSETFROM:-0500
TZOFFSETTO:-0600
TZNAME:CST
DTSTART:20241103T070000
END:STANDARD
BEGIN:DAYLIGHT
TZOFFSETFROM:-0600
TZOFFSETTO:-0500
TZNAME:CDT
DTSTART:20250309T080000
END:DAYLIGHT
BEGIN:STANDARD
TZOFFSETFROM:-0500
TZOFFSETTO:-0600
TZNAME:CST
DTSTART:20251102T070000
END:STANDARD
BEGIN:DAYLIGHT
TZOFFSETFROM:-0600
TZOFFSETTO:-0500
TZNAME:CDT
DTSTART:20260308T080000
END:DAYLIGHT
BEGIN:STANDARD
TZOFFSETFROM:-0500
TZOFFSETTO:-0600
TZNAME:CST
DTSTART:20261101T070000
END:STANDARD
END:VTIMEZONE
BEGIN:VEVENT
DTSTART;VALUE=DATE:20250801
DTEND;VALUE=DATE:20250802
DTSTAMP:20260422T105557
CREATED:20250611T173251Z
LAST-MODIFIED:20250707T151456Z
UID:56036-1754006400-1754092799@parkboardgolf.org
SUMMARY:Rivercut Sips and Swings - Ladies Clinic NOW FULL!
DESCRIPTION:
URL:https://parkboardgolf.org/events/rivercut-sips-and-swings-ladies-clinic/
CATEGORIES:Rivercut
ATTACH;FMTTYPE=image/png:https://parkboardgolf.org/wp-content/uploads/2025/05/The-Park-RIV-Sips-and-Swings-Ladies-Clinic-blog.webp
END:VEVENT
END:VCALENDAR