BEGIN:VCALENDAR
VERSION:2.0
PRODID:-//Park Board - ECPv6.15.20//NONSGML v1.0//EN
CALSCALE:GREGORIAN
METHOD:PUBLISH
X-ORIGINAL-URL:https://parkboardgolf.org
X-WR-CALDESC:Events for Park Board
REFRESH-INTERVAL;VALUE=DURATION:PT1H
X-Robots-Tag:noindex
X-PUBLISHED-TTL:PT1H
BEGIN:VTIMEZONE
TZID:America/Chicago
BEGIN:DAYLIGHT
TZOFFSETFROM:-0600
TZOFFSETTO:-0500
TZNAME:CDT
DTSTART:20250309T080000
END:DAYLIGHT
BEGIN:STANDARD
TZOFFSETFROM:-0500
TZOFFSETTO:-0600
TZNAME:CST
DTSTART:20251102T070000
END:STANDARD
BEGIN:DAYLIGHT
TZOFFSETFROM:-0600
TZOFFSETTO:-0500
TZNAME:CDT
DTSTART:20260308T080000
END:DAYLIGHT
BEGIN:STANDARD
TZOFFSETFROM:-0500
TZOFFSETTO:-0600
TZNAME:CST
DTSTART:20261101T070000
END:STANDARD
BEGIN:DAYLIGHT
TZOFFSETFROM:-0600
TZOFFSETTO:-0500
TZNAME:CDT
DTSTART:20270314T080000
END:DAYLIGHT
BEGIN:STANDARD
TZOFFSETFROM:-0500
TZOFFSETTO:-0600
TZNAME:CST
DTSTART:20271107T070000
END:STANDARD
END:VTIMEZONE
BEGIN:VEVENT
DTSTART;TZID=America/Chicago:20260617T173000
DTEND;TZID=America/Chicago:20260617T193000
DTSTAMP:20260422T093414
CREATED:20260422T142726Z
LAST-MODIFIED:20260422T143119Z
UID:56774-1781717400-1781724600@parkboardgolf.org
SUMMARY:Rivercut Junior Golf Camp - June 2026
DESCRIPTION:Mark your calendars and prepare your summer!  \nRivercut Junior Golf Camp  \nWednesday\, June 17th\, 2026. \n2 Hour Camp | 5:30pm – 7:30pm \nPutting | Chipping | Driving Range | Golf Rules \nFun Games and On-Course Play! \n*The registration deadline is June 15th* \n$50 per Junior \nThe registration fee includes a snack for the junior golfer. \nLimited to the first 15 spots who register and pay. \nAll Skill Levels Welcomed! \nSign up now to reserve your spot! \nREGISTER YOUR JUNIOR HERE
URL:https://parkboardgolf.org/events/rivercut-junior-golf-camp-june-2026/
CATEGORIES:Rivercut
ATTACH;FMTTYPE=image/png:https://parkboardgolf.org/wp-content/uploads/2026/04/The-Park-RIV-Junior-Golf-Camp-2026-blog-1.png
END:VEVENT
END:VCALENDAR