BEGIN:VCALENDAR
VERSION:2.0
PRODID:-//Park Board - ECPv6.15.20//NONSGML v1.0//EN
CALSCALE:GREGORIAN
METHOD:PUBLISH
X-WR-CALNAME:Park Board
X-ORIGINAL-URL:https://parkboardgolf.org
X-WR-CALDESC:Events for Park Board
REFRESH-INTERVAL;VALUE=DURATION:PT1H
X-Robots-Tag:noindex
X-PUBLISHED-TTL:PT1H
BEGIN:VTIMEZONE
TZID:America/Chicago
BEGIN:DAYLIGHT
TZOFFSETFROM:-0600
TZOFFSETTO:-0500
TZNAME:CDT
DTSTART:20240310T080000
END:DAYLIGHT
BEGIN:STANDARD
TZOFFSETFROM:-0500
TZOFFSETTO:-0600
TZNAME:CST
DTSTART:20241103T070000
END:STANDARD
BEGIN:DAYLIGHT
TZOFFSETFROM:-0600
TZOFFSETTO:-0500
TZNAME:CDT
DTSTART:20250309T080000
END:DAYLIGHT
BEGIN:STANDARD
TZOFFSETFROM:-0500
TZOFFSETTO:-0600
TZNAME:CST
DTSTART:20251102T070000
END:STANDARD
BEGIN:DAYLIGHT
TZOFFSETFROM:-0600
TZOFFSETTO:-0500
TZNAME:CDT
DTSTART:20260308T080000
END:DAYLIGHT
BEGIN:STANDARD
TZOFFSETFROM:-0500
TZOFFSETTO:-0600
TZNAME:CST
DTSTART:20261101T070000
END:STANDARD
END:VTIMEZONE
BEGIN:VEVENT
DTSTART;VALUE=DATE:20250829
DTEND;VALUE=DATE:20250902
DTSTAMP:20260422T062449
CREATED:20250813T160036Z
LAST-MODIFIED:20250813T160036Z
UID:56410-1756425600-1756771199@parkboardgolf.org
SUMMARY:Rivercut Labor Day Sale
DESCRIPTION:Rivercut Labor Day Sale \n\nFriday\, August 29 – Monday\, September 1 \n\n25% OFF Men’s & Women’s Apparel\n15% OFF Regular Priced Shoes\n10% OFF Golf Bag \n\nVisit Rivercut’s Pro Shop during Labor Day Weekend!
URL:https://parkboardgolf.org/events/rivercut-labor-day-sale/
CATEGORIES:Rivercut
ATTACH;FMTTYPE=image/png:https://parkboardgolf.org/wp-content/uploads/2025/08/The-Park-RIV-Labor-Day-Sale-2025-blog.webp
END:VEVENT
BEGIN:VEVENT
DTSTART;VALUE=DATE:20250906
DTEND;VALUE=DATE:20250907
DTSTAMP:20260422T062449
CREATED:20250527T155504Z
LAST-MODIFIED:20250902T203651Z
UID:55907-1757116800-1757203199@parkboardgolf.org
SUMMARY:Rivercut 2-Person Scramble
DESCRIPTION:Rivercut Two Person Scramble \nSaturday\, September 6th \n18 Holes | 8:00am Shotgun \n*Registration Deadline is September 3rd at 11:59PM \nALL ENTRIES AFTER 11:59PM WILL BE WAITLISTED* \n$200 per team\nIncludes Greens Fee\, Cart\, Range & Lunch \nClosest to the Pin Contests & Merchandise Credit Payouts\n*Based on the Number of Teams* \nSign up now to reserve your spot!  \nBOOK HERE
URL:https://parkboardgolf.org/events/rivercut-2-person-scramble/
CATEGORIES:Rivercut
ATTACH;FMTTYPE=image/png:https://parkboardgolf.org/wp-content/uploads/2025/05/The-Parks-Rivercut-2-Person-Scramble-blog-2.webp
END:VEVENT
END:VCALENDAR